BEGIN:VCALENDAR
VERSION:2.0
PRODID:-//Official Global Cardboard Challenge Website - ECPv6.6.4.2//NONSGML v1.0//EN
CALSCALE:GREGORIAN
METHOD:PUBLISH
X-WR-CALNAME:Official Global Cardboard Challenge Website
X-ORIGINAL-URL:https://cardboard-challenge.com
X-WR-CALDESC:Events for Official Global Cardboard Challenge Website
REFRESH-INTERVAL;VALUE=DURATION:PT1H
X-Robots-Tag:noindex
X-PUBLISHED-TTL:PT1H
BEGIN:VTIMEZONE
TZID:Europe/Zagreb
BEGIN:DAYLIGHT
TZOFFSETFROM:+0100
TZOFFSETTO:+0200
TZNAME:CEST
DTSTART:20230326T010000
END:DAYLIGHT
BEGIN:STANDARD
TZOFFSETFROM:+0200
TZOFFSETTO:+0100
TZNAME:CET
DTSTART:20231029T010000
END:STANDARD
TZID:America/Denver
BEGIN:DAYLIGHT
TZOFFSETFROM:-0700
TZOFFSETTO:-0600
TZNAME:MDT
DTSTART:20230312T090000
END:DAYLIGHT
BEGIN:STANDARD
TZOFFSETFROM:-0600
TZOFFSETTO:-0700
TZNAME:MST
DTSTART:20231105T080000
END:STANDARD
TZID:America/New_York
BEGIN:DAYLIGHT
TZOFFSETFROM:-0500
TZOFFSETTO:-0400
TZNAME:EDT
DTSTART:20230312T070000
END:DAYLIGHT
BEGIN:STANDARD
TZOFFSETFROM:-0400
TZOFFSETTO:-0500
TZNAME:EST
DTSTART:20231105T060000
END:STANDARD
TZID:America/Toronto
BEGIN:DAYLIGHT
TZOFFSETFROM:-0500
TZOFFSETTO:-0400
TZNAME:EDT
DTSTART:20230312T070000
END:DAYLIGHT
BEGIN:STANDARD
TZOFFSETFROM:-0400
TZOFFSETTO:-0500
TZNAME:EST
DTSTART:20231105T060000
END:STANDARD
TZID:UTC
BEGIN:STANDARD
TZOFFSETFROM:+0000
TZOFFSETTO:+0000
TZNAME:UTC
DTSTART:20230101T000000
END:STANDARD
TZID:Asia/Bahrain
BEGIN:STANDARD
TZOFFSETFROM:+0300
TZOFFSETTO:+0300
TZNAME:+03
DTSTART:20230101T000000
END:STANDARD
END:VTIMEZONE
BEGIN:VEVENT
DTSTART;TZID=Europe/Zagreb:20230330T153000
DTEND;TZID=Europe/Zagreb:20230330T180000
DTSTAMP:20260424T130400
CREATED:20230323T193615Z
LAST-MODIFIED:20230323T193615Z
UID:17088-1680190200-1680199200@cardboard-challenge.com
SUMMARY:Cardboard Challenge\, Lumbarda Croatia
DESCRIPTION:Roko (10)\, a boy from Croatia\, read a story about Caine in a book about inspirational boys. He decided to make his own challenge.\nRoko will host children in his yard in Lumbarda.
URL:https://cardboard-challenge.com/event/cardboard-challenge-lumbarda-croatia/
LOCATION:challenge\, 2111 !9 collage ave st\, terre haute\, IN/saint/christian\, 47802\, United States
ATTACH;FMTTYPE=image/jpeg:https://cardboard-challenge.com/wp-content/uploads/2023/03/IMG_20230323_201911-scaled.jpg
END:VEVENT
BEGIN:VEVENT
DTSTART;TZID=America/Denver:20230328T080000
DTEND;TZID=America/Denver:20230328T170000
DTSTAMP:20260424T130400
CREATED:20230328T160034Z
LAST-MODIFIED:20230328T160034Z
UID:17252-1679990400-1680022800@cardboard-challenge.com
SUMMARY:NWMS Cardboard Challenge
DESCRIPTION:6th-7th grade students will work collaboratively to design and construct an arcade game from cardboard.
URL:https://cardboard-challenge.com/event/nwms-cardboard-challenge/
LOCATION:AZ
END:VEVENT
BEGIN:VEVENT
DTSTART;TZID=America/Denver:20230323T170000
DTEND;TZID=America/Denver:20230323T190000
DTSTAMP:20260424T130400
CREATED:20230308T185812Z
LAST-MODIFIED:20230308T185812Z
UID:16520-1679590800-1679598000@cardboard-challenge.com
SUMMARY:Neabsco's 2nd Annual Cardboard Challenge
DESCRIPTION:On March 23\, 2023\, we will be hosting the 2nd annual cardboard challenge! \nStudents and families are encouraged to reuse items to construct and build new items\, games\, etc.
URL:https://cardboard-challenge.com/event/neabscos-2nd-annual-cardboard-challenge/
LOCATION:AZ
END:VEVENT
BEGIN:VEVENT
DTSTART;TZID=America/Denver:20230322T080000
DTEND;TZID=America/Denver:20230322T170000
DTSTAMP:20260424T130400
CREATED:20230323T034332Z
LAST-MODIFIED:20230323T034332Z
UID:17049-1679472000-1679504400@cardboard-challenge.com
SUMMARY:BHPS CAINES ARCADEZ
DESCRIPTION:Black Hill Primary school arcade projects
URL:https://cardboard-challenge.com/event/bhps-caines-arcadez/
LOCATION:bhps priamry school\, Australia
END:VEVENT
BEGIN:VEVENT
DTSTART;TZID=America/Denver:20230321T074500
DTEND;TZID=America/Denver:20230331T143000
DTSTAMP:20260424T130400
CREATED:20230321T170542Z
LAST-MODIFIED:20230321T170542Z
UID:16989-1679384700-1680273000@cardboard-challenge.com
SUMMARY:Arcade Building
DESCRIPTION:Students will build an arcade entirely out of cardboard and other parts.
URL:https://cardboard-challenge.com/event/arcade-building/
LOCATION:Mohave Middle School\, 8490 East Jackrabbit Road\, Scottsdale\, AZ\, 85250\, United States
ATTACH;FMTTYPE=image/png:https://cardboard-challenge.com/wp-content/uploads/2023/03/Mohave-Wildcats-1.png
ORGANIZER;CN="Fred Murray":MAILTO:fmurray303@gmail.com
END:VEVENT
BEGIN:VEVENT
DTSTART;TZID=America/Denver:20230315T080000
DTEND;TZID=America/Denver:20230315T170000
DTSTAMP:20260424T130400
CREATED:20230315T181650Z
LAST-MODIFIED:20230315T181650Z
UID:16740-1678867200-1678899600@cardboard-challenge.com
SUMMARY:Im glad I finally signed up
DESCRIPTION:CG
URL:https://cardboard-challenge.com/event/im-glad-i-finally-signed-up/
LOCATION:AZ
END:VEVENT
BEGIN:VEVENT
DTSTART;VALUE=DATE:20230315
DTEND;VALUE=DATE:20230330
DTSTAMP:20260424T130400
CREATED:20230201T004802Z
LAST-MODIFIED:20230201T004802Z
UID:15350-1678838400-1680134399@cardboard-challenge.com
SUMMARY:Palm Beach State School Cardboard Challenge
DESCRIPTION:Students involved in the Creative and Critical Think program will use their thinking skills to participate in the Cardboard Challenge.
URL:https://cardboard-challenge.com/event/palm-beach-state-school-cardboard-challenge/
LOCATION:Cardboard Challenge\, Vancouver\, British Columbia\, V6A 1V5\, Canada
ATTACH;FMTTYPE=image/png:https://cardboard-challenge.com/wp-content/uploads/2023/01/Palm-Beach-logo.png
ORGANIZER;CN="Melissa Nash":MAILTO:mjbry0@eq.edu.au
END:VEVENT
BEGIN:VEVENT
DTSTART;TZID=America/Denver:20230313T095900
DTEND;TZID=America/Denver:20230313T170000
DTSTAMP:20260424T130400
CREATED:20230314T063656Z
LAST-MODIFIED:20230314T063656Z
UID:16697-1678701540-1678726800@cardboard-challenge.com
SUMMARY:Tonier
DESCRIPTION:Throw a ball and try hit a balloon a or A soccer ball and also a chair
URL:https://cardboard-challenge.com/event/tonier/
LOCATION:AZ
ATTACH;FMTTYPE=image/jpeg:https://cardboard-challenge.com/wp-content/uploads/2023/03/image-scaled.jpg
END:VEVENT
BEGIN:VEVENT
DTSTART;TZID=America/Denver:20230313T080000
DTEND;TZID=America/Denver:20230313T170000
DTSTAMP:20260424T130400
CREATED:20230314T004732Z
LAST-MODIFIED:20230314T004732Z
UID:16690-1678694400-1678726800@cardboard-challenge.com
SUMMARY:Im happy I now signed up
DESCRIPTION:XW
URL:https://cardboard-challenge.com/event/im-happy-i-now-signed-up/
LOCATION:AZ
END:VEVENT
BEGIN:VEVENT
DTSTART;VALUE=DATE:20230313
DTEND;VALUE=DATE:20230314
DTSTAMP:20260424T130400
CREATED:20230313T181801Z
LAST-MODIFIED:20230313T181801Z
UID:16680-1678665600-1678751999@cardboard-challenge.com
SUMMARY:Baldonnel Elementary School Cardboard Arcade
DESCRIPTION:Baldonnel school students grade 3-6 created and designed cardboard arcade games. On March 13th\, 2023 the arcade was open in the gym for the primary students to come and play
URL:https://cardboard-challenge.com/event/baldonnel-elementary-school-cardboard-arcade/
LOCATION:Baldonnel Elementary School\, Baldonnel\, British Columbia\, Canada
ATTACH;FMTTYPE=image/jpeg:https://cardboard-challenge.com/wp-content/uploads/2023/03/330181461_880602143150373_7339175652834053827_n.jpg
END:VEVENT
BEGIN:VEVENT
DTSTART;TZID=America/New_York:20230311T130000
DTEND;TZID=America/New_York:20230311T150000
DTSTAMP:20260424T130400
CREATED:20230216T144208Z
LAST-MODIFIED:20230216T144208Z
UID:15904-1678539600-1678546800@cardboard-challenge.com
SUMMARY:Hiawatha Cardboard Challenge
DESCRIPTION:The Hiawatha Library is sponsoring this fun (and free!) family event that will bring our school community together and give students and families a chance to collaborate\, learn\, problem-solve\, and build something they imagine.\nWhat to bring:  your ideas\, cardboard\, boxes\, recycled materials or special items you might want to use\nWe will provide: cardboard\, TP rolls\, duct tape\, masking tape\, scissors\, power cutters for thick cardboard\, water for drinks.
URL:https://cardboard-challenge.com/event/hiawatha-cardboard-challenge/
LOCATION:Hiawatha’s Cardboard Challenge\, 30 Hiawatha Ave\, Essex Junction\, VT\, 05452\, United States
ATTACH;FMTTYPE=image/jpeg:https://cardboard-challenge.com/wp-content/uploads/2023/02/42860176_10156677925104380_6875778939046854656_n.jpg
END:VEVENT
BEGIN:VEVENT
DTSTART;VALUE=DATE:20230310
DTEND;VALUE=DATE:20230311
DTSTAMP:20260424T130400
CREATED:20230306T065701Z
LAST-MODIFIED:20230306T065701Z
UID:16438-1678406400-1678492799@cardboard-challenge.com
SUMMARY:Carson Cardboard Challenge
DESCRIPTION:All of the students will be placed into Family Groups.  These groups will have an opportunity to learn about what the challenge is\, and then within those rooms divide into groups of 2\, 3\, or 4 to create a game. All student will explore each other’s creations in an afternoon.
URL:https://cardboard-challenge.com/event/carson-cardboard-challenge/
LOCATION:AZ
END:VEVENT
BEGIN:VEVENT
DTSTART;TZID=America/Denver:20230304T080000
DTEND;TZID=America/Denver:20230304T170000
DTSTAMP:20260424T130400
CREATED:20230304T175206Z
LAST-MODIFIED:20230304T175206Z
UID:16387-1677916800-1677949200@cardboard-challenge.com
SUMMARY:Dead\, neutral\, navigation disruptive hypothyroidism.
DESCRIPTION:[url=http://slkjfdf.net/]Zujaroj[/url] Miridoyo ahr.iugx.int.make.do.wfx.hd http://slkjfdf.net/
URL:https://cardboard-challenge.com/event/dead-neutral-navigation-disruptive-hypothyroidism/
LOCATION:2nd Hungerford Brownies\, Brook cottage\, Kingston Road\, Shalbourne\, wiltshire\, SN8 3QH\, United Kingdom
ORGANIZER;CN="Melissa Becker and MASC":MAILTO:mbecker@petk12.org
END:VEVENT
BEGIN:VEVENT
DTSTART;TZID=America/Denver:20230304T080000
DTEND;TZID=America/Denver:20230304T170000
DTSTAMP:20260424T130400
CREATED:20230304T173152Z
LAST-MODIFIED:20230304T173152Z
UID:16385-1677916800-1677949200@cardboard-challenge.com
SUMMARY:Recognizing genitalia thoracotomy; taper mediators 6wks.
DESCRIPTION:[url=http://slkjfdf.net/]Idtuhabsi[/url] Uujupecez ioz.jbpv.int.make.do.lhe.ou http://slkjfdf.net/
URL:https://cardboard-challenge.com/event/recognizing-genitalia-thoracotomy-taper-mediators-6wks/
LOCATION:Hiawatha’s Cardboard Challenge\, 30 Hiawatha Ave\, Essex Junction\, VT\, 05452\, United States
ORGANIZER;CN="google":MAILTO:jamesonstat5a@mymailer.buzz
END:VEVENT
BEGIN:VEVENT
DTSTART;TZID=America/Denver:20230304T080000
DTEND;TZID=America/Denver:20230304T170000
DTSTAMP:20260424T130400
CREATED:20230304T172451Z
LAST-MODIFIED:20230304T172451Z
UID:16384-1677916800-1677949200@cardboard-challenge.com
SUMMARY:Communicate ranges\, joint\, human\, rights encephalitis.
DESCRIPTION:[url=http://slkjfdf.net/]Idtuhabsi[/url] Uujupecez ioz.jbpv.make.do.lhe.ou http://slkjfdf.net/
URL:https://cardboard-challenge.com/event/communicate-ranges-joint-human-rights-encephalitis/
LOCATION:Nour Hamed\, 1311 W. Cerritos Ave\, Unite# 93\, Anaheim\, California\, 92802\, United States
ORGANIZER;CN="Flourish School":MAILTO:saurabh@flourishschool.org
END:VEVENT
BEGIN:VEVENT
DTSTART;TZID=America/Denver:20230303T080000
DTEND;TZID=America/Denver:20230303T080000
DTSTAMP:20260424T130400
CREATED:20230112T171527Z
LAST-MODIFIED:20230112T172404Z
UID:14674-1677830400-1677830400@cardboard-challenge.com
SUMMARY:Cardboard Challenge
DESCRIPTION:Elementary School Cardboard challenge
URL:https://cardboard-challenge.com/event/cardboard-challenge/
LOCATION:Cardboard Challenge\, Vancouver\, British Columbia\, V6A 1V5\, Canada
END:VEVENT
BEGIN:VEVENT
DTSTART;TZID=America/Denver:20230228T080000
DTEND;TZID=America/Denver:20230228T170000
DTSTAMP:20260424T130400
CREATED:20230301T023311Z
LAST-MODIFIED:20230301T023311Z
UID:16262-1677571200-1677603600@cardboard-challenge.com
SUMMARY:סקס ישראלי
DESCRIPTION:סקס ישראלי  \n[url=https://businesslistingplus.com/business-listings/valentinesarratt.html]נערות ליווי[/url]
URL:https://cardboard-challenge.com/event/%d7%a1%d7%a7%d7%a1-%d7%99%d7%a9%d7%a8%d7%90%d7%9c%d7%99-2/
LOCATION:Cardboard Challenge 2017\, 7815 Mainland\, Texas\, San Antonio/ 78251\, United States
ORGANIZER;CN="Frith O'Steen - VVE STEAM/Garden Educator":MAILTO:osteenf@mdusd.org
END:VEVENT
BEGIN:VEVENT
DTSTART;VALUE=DATE:20230227
DTEND;VALUE=DATE:20230304
DTSTAMP:20260424T130400
CREATED:20230131T010158Z
LAST-MODIFIED:20230131T010158Z
UID:15322-1677456000-1677887999@cardboard-challenge.com
SUMMARY:Cardboard Carnival
DESCRIPTION:As part of our Forest Hill Senior carnival week\, we will be having a Cardboard Carnival! The Grade 5 and 6 classes will create the carnival games out of cardboard during their Studio blocks\, and the whole school will get to enjoy them that week!\n*This event is for Forest Hill Senior students only.
URL:https://cardboard-challenge.com/event/cardboard-carnival/
LOCATION:AZ
END:VEVENT
BEGIN:VEVENT
DTSTART;TZID=America/Denver:20230223T180000
DTEND;TZID=America/Denver:20230223T190000
DTSTAMP:20260424T130400
CREATED:20230208T055502Z
LAST-MODIFIED:20230208T055502Z
UID:15619-1677175200-1677178800@cardboard-challenge.com
SUMMARY:McNear School FIRST Cardboard Challenge
DESCRIPTION:All TK-6th grade students are invited to let their imaginations soar to new heights with our first official CARDBOARD CHALLENGE.  From gigantic to minuscule\, let’s see what you’ve got!  The rule is:  if you can build it\, build it!  No limitations on size\, just be sure that the main product you use is cardboard.  Community members are welcome to explore our creations the evening of the event.
URL:https://cardboard-challenge.com/event/mcnear-school-first-cardboard-challenge/
LOCATION:McNear Elementary Multi\, 605 Sunnyslope Ave\, Petaluma\, CA\, 94952\, United States
ORGANIZER;CN="Melissa Becker and MASC":MAILTO:mbecker@petk12.org
END:VEVENT
BEGIN:VEVENT
DTSTART;TZID=America/Denver:20230221T134500
DTEND;TZID=America/Denver:20230221T150000
DTSTAMP:20260424T130400
CREATED:20230220T221009Z
LAST-MODIFIED:20230220T221009Z
UID:16038-1676987100-1676991600@cardboard-challenge.com
SUMMARY:GRACE Cardboard Carnival
DESCRIPTION:7th grade STEM students have created carnival games out of cardboard.  The students were challenged to include a circuit which triggers a light or buzzer as part of the game play.  Students will share their carnival games with parents\, 7th-12th students and staff.
URL:https://cardboard-challenge.com/event/grace-cardboard-carnival/
LOCATION:AZ
ATTACH;FMTTYPE=image/jpeg:https://cardboard-challenge.com/wp-content/uploads/2023/02/Cardboard-Carnival-Flyer.jpg
END:VEVENT
BEGIN:VEVENT
DTSTART;TZID=America/Denver:20230210T080000
DTEND;TZID=America/Denver:20230210T170000
DTSTAMP:20260424T130400
CREATED:20230210T134429Z
LAST-MODIFIED:20230210T134429Z
UID:15702-1676016000-1676048400@cardboard-challenge.com
SUMMARY:Thank
DESCRIPTION:Агентство наружной рекламы\n[url=https://securegpform.co.uk/1/1avtoskupka.ru]https://www.orthodoxytoday.org/?URL=1avtoskupka.ru[/url]
URL:https://cardboard-challenge.com/event/thank/
LOCATION:ACTS Fall Festival\, Building 1738 8th Street\, Twentynine Palms\, CA\, 92277\, United States
ORGANIZER;CN="Frith O'Steen - VVE STEAM/Garden Educator":MAILTO:osteenf@mdusd.org
END:VEVENT
BEGIN:VEVENT
DTSTART;TZID=UTC:20230209T100000
DTEND;TZID=UTC:20230209T100000
DTSTAMP:20260424T130400
CREATED:20230112T171547Z
LAST-MODIFIED:20230112T172523Z
UID:14688-1675936800-1675936800@cardboard-challenge.com
SUMMARY:MVE Makerspace Cardboard Challenge
DESCRIPTION:In Makerspace Club\, students in grades 2nd-5th can participate. We’ll complete a Cardboard Challenge so that other students can check out and play in our arcade during our campus STEM Night.
URL:https://cardboard-challenge.com/event/mve-makerspace-cardboard-challenge/
LOCATION:MVE Makerspace Cardboard Challenge\, 3550 Mark Jason Dr\, El Paso\, TX\, 79938\, United States
END:VEVENT
BEGIN:VEVENT
DTSTART;TZID=America/Denver:20230209T080000
DTEND;TZID=America/Denver:20230209T140000
DTSTAMP:20260424T130400
CREATED:20230202T064329Z
LAST-MODIFIED:20230202T064329Z
UID:15402-1675929600-1675951200@cardboard-challenge.com
SUMMARY:Camden Station Cardboard Arcade Challenge
DESCRIPTION:This event is open only to 4th grade students at Camden Station Elementary.
URL:https://cardboard-challenge.com/event/camden-station-cardboard-arcade-challenge/
LOCATION:Camden Station Elementary\, Crestwood\, KY\, 40014\, United States
ORGANIZER;CN="Lauren Bohn":MAILTO:Lauren.bohn@oldham.kyschools.us
END:VEVENT
BEGIN:VEVENT
DTSTART;TZID=America/Denver:20230207T160000
DTEND;TZID=America/Denver:20230207T170000
DTSTAMP:20260424T130400
CREATED:20230123T194207Z
LAST-MODIFIED:20230123T194207Z
UID:15085-1675785600-1675789200@cardboard-challenge.com
SUMMARY:STEAM: Cardboard Challenge
DESCRIPTION:Join us at the library as we explore Science\, Technology\, Engineering\, Art\, and Math! Each week\, we’ll discuss a different theme and do hands-on activities and experiments to find out more about them.  \nRegistration begins two weeks prior to the start date. \nFor grades 3-5 \nMasks are encouraged!
URL:https://cardboard-challenge.com/event/steam-cardboard-challenge/
LOCATION:405 S. Pleasant Street Springdale\, AR 72764\, 405 S. Pleasant Street\, Springdale\, AR\, 72764\, United States
END:VEVENT
BEGIN:VEVENT
DTSTART;TZID=America/Denver:20230201T080000
DTEND;TZID=America/Denver:20230216T150000
DTSTAMP:20260424T130400
CREATED:20230205T174016Z
LAST-MODIFIED:20230205T174016Z
UID:15535-1675238400-1676559600@cardboard-challenge.com
SUMMARY:Valle Verde Elementary "Caine's Arcade Maker Challenge"
DESCRIPTION:Our 4th and 5th graders will be given cardboard and other recyclable/reusable materials to use in designing\, building\, testing\, and finally sharing arcade games inspired by the documentary film\, “Caine’s Arcade”. The lesson will span 3 weeks and the students will ultimately show off their creations at the school STEAM night later in the spring. Students work in teams of 3-5\, and are encouraged to use the engineering design process throughout their experience. Students work in 3 one-hour sessions over the span of 3 weeks.
URL:https://cardboard-challenge.com/event/valle-verde-elementary-caines-arcade-maker-challenge/
LOCATION:Valle Verde Elementary School\, 3275 Peachwillow Ln.\, Walnut Creek\, CA\, 94598\, United States
ORGANIZER;CN="Frith O'Steen - VVE STEAM/Garden Educator":MAILTO:osteenf@mdusd.org
END:VEVENT
BEGIN:VEVENT
DTSTART;TZID=UTC:20230130T181500
DTEND;TZID=UTC:20230130T181500
DTSTAMP:20260424T130400
CREATED:20230112T171522Z
LAST-MODIFIED:20230112T172635Z
UID:14671-1675102500-1675102500@cardboard-challenge.com
SUMMARY:Cardboard Creations
DESCRIPTION:Students will progress through the design process to plan\, build\, test\, reiterate\, and share a prototype of their invention that would possibly solve a real world problem. (ie clothes folder\, )
URL:https://cardboard-challenge.com/event/cardboard-creations/
LOCATION:Cardboard Creations\, 60 S. High St.\, Akron\, Ohio\, 44326\, United States
END:VEVENT
BEGIN:VEVENT
DTSTART;TZID=Asia/Bahrain:20230130T080000
DTEND;TZID=Asia/Bahrain:20230130T170000
DTSTAMP:20260424T130400
CREATED:20230130T232248Z
LAST-MODIFIED:20230130T232248Z
UID:15320-1675065600-1675098000@cardboard-challenge.com
SUMMARY:סקס ישראלי
DESCRIPTION:סקס ישראלי  \n[url=https://tinhte.vn/members/wilbureland.2963421/]נערות ליווי[/url]
URL:https://cardboard-challenge.com/event/%d7%a1%d7%a7%d7%a1-%d7%99%d7%a9%d7%a8%d7%90%d7%9c%d7%99/
LOCATION:Mrs. Browns Arcade\, Cottontown\, TN\, 37048\, United States
ORGANIZER;CN="google":MAILTO:jamesonstat5a@mymailer.buzz
END:VEVENT
BEGIN:VEVENT
DTSTART;TZID=America/Denver:20230126T080000
DTEND;TZID=America/Denver:20230126T170000
DTSTAMP:20260424T130400
CREATED:20230127T065929Z
LAST-MODIFIED:20230127T065929Z
UID:15201-1674720000-1674752400@cardboard-challenge.com
SUMMARY:Как отыскать красную икру?
DESCRIPTION:FI
URL:https://cardboard-challenge.com/event/%d0%ba%d0%b0%d0%ba-%d0%be%d1%82%d1%8b%d1%81%d0%ba%d0%b0%d1%82%d1%8c-%d0%ba%d1%80%d0%b0%d1%81%d0%bd%d1%83%d1%8e-%d0%b8%d0%ba%d1%80%d1%83/
LOCATION:AZ
END:VEVENT
BEGIN:VEVENT
DTSTART;TZID=America/Denver:20230125T080000
DTEND;TZID=America/Denver:20230125T170000
DTSTAMP:20260424T130400
CREATED:20230126T063508Z
LAST-MODIFIED:20230126T063508Z
UID:15174-1674633600-1674666000@cardboard-challenge.com
SUMMARY:Highlands Intermediate Cardboard Challenge
DESCRIPTION:As a culminating activity\, the Highlands Intermediate Leadership Academy Class will be hosting their first ever Cardboard Challenge!
URL:https://cardboard-challenge.com/event/highlands-intermediate-cardboard-challenge-2/
LOCATION:Highlands Intermediate Cardboard Challenge\, 1460 Hoolaulea St\, Pearl City\, HI\, 96782\, United States
ATTACH;FMTTYPE=image/png:https://cardboard-challenge.com/wp-content/uploads/2023/01/flyer-cardboard-arcade-2022.png
ORGANIZER;CN="Highlands Intermediate":MAILTO:eric.white@k12.hi.us
END:VEVENT
BEGIN:VEVENT
DTSTART;TZID=America/New_York:20230120T080000
DTEND;TZID=America/New_York:20230120T170000
DTSTAMP:20260424T130400
CREATED:20230121T084113Z
LAST-MODIFIED:20230121T084113Z
UID:15065-1674201600-1674234000@cardboard-challenge.com
SUMMARY:how long before should you take cialis
DESCRIPTION:cheapest cialis available I didn t want to kill him\, but now\, I have to change my mind
URL:https://cardboard-challenge.com/event/how-long-before-should-you-take-cialis/
LOCATION:Highlands Intermediate Cardboard Challenge\, 1460 Hoolaulea St\, Pearl City\, HI\, 96782\, United States
ORGANIZER;CN="google":MAILTO:jamesonstat5a@mymailer.buzz
END:VEVENT
END:VCALENDAR